Package: CuratedAtlasQueryR Version: 1.8.0 Command: /home/biocbuild/R/R/bin/R CMD INSTALL CuratedAtlasQueryR StartedAt: 2025-11-10 21:44:15 -0000 (Mon, 10 Nov 2025) EndedAt: 2025-11-10 21:45:06 -0000 (Mon, 10 Nov 2025) EllapsedTime: 51.6 seconds RetCode: 0 Status: OK