Package: CuratedAtlasQueryR Version: 1.8.0 Command: /home/biocbuild/R/R/bin/R CMD build --keep-empty-dirs --no-resave-data CuratedAtlasQueryR StartedAt: 2025-11-14 01:00:02 -0000 (Fri, 14 Nov 2025) EndedAt: 2025-11-14 01:02:43 -0000 (Fri, 14 Nov 2025) EllapsedTime: 160.8 seconds RetCode: 0 Status: OK PackageFile: CuratedAtlasQueryR_1.8.0.tar.gz PackageFileSize: 915.6 KiB