Package: CuratedAtlasQueryR Version: 1.6.0 Command: E:\biocbuild\bbs-3.21-bioc\R\bin\R.exe CMD INSTALL CuratedAtlasQueryR StartedAt: 2025-08-14 16:08:31 -0400 (Thu, 14 Aug 2025) EndedAt: 2025-08-14 16:09:48 -0400 (Thu, 14 Aug 2025) EllapsedTime: 77.0 seconds RetCode: 0 Status: OK