Package: CuratedAtlasQueryR Version: 1.8.0 Command: /home/biocbuild/bbs-3.22-bioc/R/bin/R CMD check --install=check:CuratedAtlasQueryR.install-out.txt --library=/home/biocbuild/bbs-3.22-bioc/R/site-library --timings CuratedAtlasQueryR_1.8.0.tar.gz StartedAt: 2025-11-11 22:42:50 -0500 (Tue, 11 Nov 2025) EndedAt: 2025-11-11 22:49:31 -0500 (Tue, 11 Nov 2025) EllapsedTime: 401.3 seconds RetCode: 0 Status: OK CheckDir: CuratedAtlasQueryR.Rcheck Warnings: 0