Package: CuratedAtlasQueryR Version: 1.8.0 Command: /home/biocbuild/bbs-3.22-bioc/R/bin/R CMD build --keep-empty-dirs --no-resave-data --md5 CuratedAtlasQueryR StartedAt: 2025-11-11 17:11:05 -0500 (Tue, 11 Nov 2025) EndedAt: 2025-11-11 17:12:54 -0500 (Tue, 11 Nov 2025) EllapsedTime: 108.1 seconds RetCode: 0 Status: OK PackageFile: CuratedAtlasQueryR_1.8.0.tar.gz PackageFileSize: 978.7 KiB