Package: CuratedAtlasQueryR Version: 1.6.0 Command: /Library/Frameworks/R.framework/Resources/bin/R CMD INSTALL CuratedAtlasQueryR StartedAt: 2025-09-25 16:08:41 -0400 (Thu, 25 Sep 2025) EndedAt: 2025-09-25 16:09:29 -0400 (Thu, 25 Sep 2025) EllapsedTime: 48.5 seconds RetCode: 0 Status: OK