Package: CuratedAtlasQueryR Version: 1.6.0 Command: /Library/Frameworks/R.framework/Resources/bin/R CMD build --keep-empty-dirs --no-resave-data CuratedAtlasQueryR StartedAt: 2025-09-25 22:17:22 -0400 (Thu, 25 Sep 2025) EndedAt: 2025-09-25 22:19:54 -0400 (Thu, 25 Sep 2025) EllapsedTime: 152.7 seconds RetCode: 0 Status: OK PackageFile: CuratedAtlasQueryR_1.6.0.tar.gz PackageFileSize: 967.3 KiB