Package: CrispRVariants Version: 1.38.0 Command: /home/biocbuild/bbs-3.22-bioc/R/bin/R CMD INSTALL CrispRVariants StartedAt: 2025-11-13 15:26:29 -0500 (Thu, 13 Nov 2025) EndedAt: 2025-11-13 15:27:14 -0500 (Thu, 13 Nov 2025) EllapsedTime: 44.7 seconds RetCode: 0 Status: OK