Package: CrispRVariants Version: 1.38.0 Command: /home/biocbuild/bbs-3.22-bioc/R/bin/R CMD build --keep-empty-dirs --no-resave-data --md5 CrispRVariants StartedAt: 2025-11-11 17:08:30 -0500 (Tue, 11 Nov 2025) EndedAt: 2025-11-11 17:10:41 -0500 (Tue, 11 Nov 2025) EllapsedTime: 131.1 seconds RetCode: 0 Status: OK PackageFile: CrispRVariants_1.38.0.tar.gz PackageFileSize: 3.607 MiB