Package: CrispRVariants Version: 1.38.0 Command: rm -rf CrispRVariants.buildbin-libdir && mkdir CrispRVariants.buildbin-libdir && /Users/biocbuild/BBS/utils/build-universal.sh CrispRVariants_1.38.0.tar.gz /Library/Frameworks/R.framework/Resources/bin/R CrispRVariants.buildbin-libdir StartedAt: 2025-11-10 23:16:26 -0500 (Mon, 10 Nov 2025) EndedAt: 2025-11-10 23:16:45 -0500 (Mon, 10 Nov 2025) EllapsedTime: 19.3 seconds RetCode: 0 Status: OK PackageFile: CrispRVariants_1.38.0.tgz PackageFileSize: 3.938 MiB