Package: CoverageView Version: 1.48.0 Command: /home/biocbuild/R/R/bin/R CMD INSTALL CoverageView StartedAt: 2025-11-10 21:36:42 -0000 (Mon, 10 Nov 2025) EndedAt: 2025-11-10 21:37:23 -0000 (Mon, 10 Nov 2025) EllapsedTime: 41.0 seconds RetCode: 0 Status: OK