Package: CoverageView Version: 1.48.0 Command: /home/biocbuild/R/R/bin/R CMD build --keep-empty-dirs --no-resave-data CoverageView StartedAt: 2025-11-11 00:46:12 -0000 (Tue, 11 Nov 2025) EndedAt: 2025-11-11 00:47:38 -0000 (Tue, 11 Nov 2025) EllapsedTime: 85.1 seconds RetCode: 0 Status: OK PackageFile: CoverageView_1.48.0.tar.gz PackageFileSize: 2.573 MiB