Package: CoverageView Version: 1.48.0 Command: /home/biocbuild/bbs-3.22-bioc/R/bin/R CMD INSTALL CoverageView StartedAt: 2025-11-11 15:31:38 -0500 (Tue, 11 Nov 2025) EndedAt: 2025-11-11 15:32:09 -0500 (Tue, 11 Nov 2025) EllapsedTime: 30.4 seconds RetCode: 0 Status: OK