Package: Cormotif Version: 1.56.0 Command: /home/biocbuild/bbs-3.22-bioc/R/bin/R CMD INSTALL Cormotif StartedAt: 2025-11-13 15:13:07 -0500 (Thu, 13 Nov 2025) EndedAt: 2025-11-13 15:13:12 -0500 (Thu, 13 Nov 2025) EllapsedTime: 4.3 seconds RetCode: 0 Status: OK