Package: Cormotif Version: 1.56.0 Command: /Library/Frameworks/R.framework/Resources/bin/R CMD INSTALL Cormotif StartedAt: 2025-11-10 15:07:00 -0500 (Mon, 10 Nov 2025) EndedAt: 2025-11-10 15:07:02 -0500 (Mon, 10 Nov 2025) EllapsedTime: 2.2 seconds RetCode: 0 Status: OK