Package: Cormotif Version: 1.56.0 Command: /Library/Frameworks/R.framework/Resources/bin/R CMD build --keep-empty-dirs --no-resave-data Cormotif StartedAt: 2025-11-10 16:01:41 -0500 (Mon, 10 Nov 2025) EndedAt: 2025-11-10 16:01:56 -0500 (Mon, 10 Nov 2025) EllapsedTime: 15.2 seconds RetCode: 0 Status: OK PackageFile: Cormotif_1.56.0.tar.gz PackageFileSize: 375.8 KiB