Package: Cormotif Version: 1.56.0 Command: rm -rf Cormotif.buildbin-libdir && mkdir Cormotif.buildbin-libdir && /Users/biocbuild/BBS/utils/build-universal.sh Cormotif_1.56.0.tar.gz /Library/Frameworks/R.framework/Resources/bin/R Cormotif.buildbin-libdir StartedAt: 2025-11-10 23:16:03 -0500 (Mon, 10 Nov 2025) EndedAt: 2025-11-10 23:16:06 -0500 (Mon, 10 Nov 2025) EllapsedTime: 3.0 seconds RetCode: 0 Status: OK PackageFile: Cormotif_1.56.0.tgz PackageFileSize: 431 KiB