Package: CoreGx Version: 2.14.0 Command: /home/biocbuild/R/R/bin/R CMD INSTALL CoreGx StartedAt: 2025-11-13 21:30:49 -0000 (Thu, 13 Nov 2025) EndedAt: 2025-11-13 21:31:40 -0000 (Thu, 13 Nov 2025) EllapsedTime: 51.1 seconds RetCode: 0 Status: OK