Package: CoreGx Version: 2.14.0 Command: /home/biocbuild/bbs-3.22-bioc/R/bin/R CMD INSTALL CoreGx StartedAt: 2025-11-11 15:27:40 -0500 (Tue, 11 Nov 2025) EndedAt: 2025-11-11 15:28:17 -0500 (Tue, 11 Nov 2025) EllapsedTime: 37.5 seconds RetCode: 0 Status: OK