Package: CoreGx Version: 2.14.0 Command: /home/biocbuild/bbs-3.22-bioc/R/bin/R CMD check --install=check:CoreGx.install-out.txt --library=/home/biocbuild/bbs-3.22-bioc/R/site-library --timings CoreGx_2.14.0.tar.gz StartedAt: 2025-11-11 22:31:21 -0500 (Tue, 11 Nov 2025) EndedAt: 2025-11-11 22:37:29 -0500 (Tue, 11 Nov 2025) EllapsedTime: 367.4 seconds RetCode: 0 Status: OK CheckDir: CoreGx.Rcheck Warnings: 0