Package: CoreGx Version: 2.12.0 Command: /Library/Frameworks/R.framework/Resources/bin/R CMD INSTALL CoreGx StartedAt: 2025-10-13 15:42:35 -0400 (Mon, 13 Oct 2025) EndedAt: 2025-10-13 15:43:58 -0400 (Mon, 13 Oct 2025) EllapsedTime: 83.7 seconds RetCode: 0 Status: OK