Package: CoreGx Version: 2.12.0 Command: /Library/Frameworks/R.framework/Resources/bin/R CMD build --keep-empty-dirs --no-resave-data CoreGx StartedAt: 2025-10-13 18:08:06 -0400 (Mon, 13 Oct 2025) EndedAt: 2025-10-13 18:10:12 -0400 (Mon, 13 Oct 2025) EllapsedTime: 126.4 seconds RetCode: 0 Status: OK PackageFile: CoreGx_2.12.0.tar.gz PackageFileSize: 1.364 MiB