Package: CoreGx Version: 2.12.0 Command: rm -rf CoreGx.buildbin-libdir && mkdir CoreGx.buildbin-libdir && /Users/biocbuild/BBS/utils/build-universal.sh CoreGx_2.12.0.tar.gz /Library/Frameworks/R.framework/Resources/bin/R CoreGx.buildbin-libdir StartedAt: 2025-10-14 13:07:53 -0400 (Tue, 14 Oct 2025) EndedAt: 2025-10-14 13:09:31 -0400 (Tue, 14 Oct 2025) EllapsedTime: 97.9 seconds RetCode: 0 Status: OK PackageFile: CoreGx_2.12.0.tgz PackageFileSize: 2.431 MiB