Package: CoreGx Version: 2.12.0 Command: /home/biocbuild/R/R/bin/R CMD INSTALL CoreGx StartedAt: 2025-09-25 20:37:17 -0000 (Thu, 25 Sep 2025) EndedAt: 2025-09-25 20:38:10 -0000 (Thu, 25 Sep 2025) EllapsedTime: 53.1 seconds RetCode: 0 Status: OK