Package: Coralysis Version: 1.0.0 Command: /home/biocbuild/bbs-3.22-bioc/R/bin/R CMD INSTALL Coralysis StartedAt: 2025-11-14 16:01:28 -0500 (Fri, 14 Nov 2025) EndedAt: 2025-11-14 16:02:05 -0500 (Fri, 14 Nov 2025) EllapsedTime: 37.0 seconds RetCode: 0 Status: OK