Package: Coralysis Version: 1.0.0 Command: /home/biocbuild/bbs-3.22-bioc/R/bin/R CMD build --keep-empty-dirs --no-resave-data --md5 Coralysis StartedAt: 2025-11-14 17:02:43 -0500 (Fri, 14 Nov 2025) EndedAt: 2025-11-14 17:14:06 -0500 (Fri, 14 Nov 2025) EllapsedTime: 682.5 seconds RetCode: 0 Status: OK PackageFile: Coralysis_1.0.0.tar.gz PackageFileSize: 11.49 MiB