Package: CopyNumberPlots Version: 1.26.0 Command: /home/biocbuild/bbs-3.22-bioc/R/bin/R CMD INSTALL CopyNumberPlots StartedAt: 2025-11-11 15:50:38 -0500 (Tue, 11 Nov 2025) EndedAt: 2025-11-11 15:51:23 -0500 (Tue, 11 Nov 2025) EllapsedTime: 45.4 seconds RetCode: 0 Status: OK