Package: CopyNumberPlots Version: 1.24.0 Command: /home/biocbuild/bbs-3.21-bioc/R/bin/R CMD INSTALL CopyNumberPlots StartedAt: 2025-09-28 16:00:34 -0400 (Sun, 28 Sep 2025) EndedAt: 2025-09-28 16:01:20 -0400 (Sun, 28 Sep 2025) EllapsedTime: 45.2 seconds RetCode: 0 Status: OK