Package: CopyNumberPlots Version: 1.24.0 Command: /Library/Frameworks/R.framework/Resources/bin/R CMD INSTALL CopyNumberPlots StartedAt: 2025-10-13 16:20:13 -0400 (Mon, 13 Oct 2025) EndedAt: 2025-10-13 16:21:49 -0400 (Mon, 13 Oct 2025) EllapsedTime: 95.3 seconds RetCode: 0 Status: OK