Package: CopyNumberPlots Version: 1.24.0 Command: /Library/Frameworks/R.framework/Resources/bin/R CMD build --keep-empty-dirs --no-resave-data CopyNumberPlots StartedAt: 2025-10-13 18:07:49 -0400 (Mon, 13 Oct 2025) EndedAt: 2025-10-13 18:10:50 -0400 (Mon, 13 Oct 2025) EllapsedTime: 180.8 seconds RetCode: 0 Status: OK PackageFile: CopyNumberPlots_1.24.0.tar.gz PackageFileSize: 2.895 MiB