Package: CopyNumberPlots Version: 1.24.0 Command: rm -rf CopyNumberPlots.buildbin-libdir && mkdir CopyNumberPlots.buildbin-libdir && /Users/biocbuild/BBS/utils/build-universal.sh CopyNumberPlots_1.24.0.tar.gz /Library/Frameworks/R.framework/Resources/bin/R CopyNumberPlots.buildbin-libdir StartedAt: 2025-10-14 13:07:48 -0400 (Tue, 14 Oct 2025) EndedAt: 2025-10-14 13:09:37 -0400 (Tue, 14 Oct 2025) EllapsedTime: 109.3 seconds RetCode: 0 Status: OK PackageFile: CopyNumberPlots_1.24.0.tgz PackageFileSize: 3.025 MiB