Package: CopyNumberPlots Version: 1.24.0 Command: /home/biocbuild/R/R/bin/R CMD INSTALL CopyNumberPlots StartedAt: 2025-09-25 21:01:12 -0000 (Thu, 25 Sep 2025) EndedAt: 2025-09-25 21:02:18 -0000 (Thu, 25 Sep 2025) EllapsedTime: 65.9 seconds RetCode: 0 Status: OK