Package: CopyNumberPlots Version: 1.24.0 Maintainer: Bernat Gel MaintainerEmail: bgel at igtp.cat git_url: https://git.bioconductor.org/packages/CopyNumberPlots git_branch: RELEASE_3_21 git_last_commit: be5b59c git_last_commit_date: 2025-04-15 11:43:55 -0400 (Tue, 15 Apr 2025)