Package: ConsensusClusterPlus Version: 1.74.0 Command: /home/biocbuild/R/R/bin/R CMD INSTALL ConsensusClusterPlus StartedAt: 2025-11-10 21:18:37 -0000 (Mon, 10 Nov 2025) EndedAt: 2025-11-10 21:18:41 -0000 (Mon, 10 Nov 2025) EllapsedTime: 4.2 seconds RetCode: 0 Status: OK