Package: ConsensusClusterPlus Version: 1.74.0 Command: /home/biocbuild/R/R/bin/R CMD build --keep-empty-dirs --no-resave-data ConsensusClusterPlus StartedAt: 2025-11-11 00:41:26 -0000 (Tue, 11 Nov 2025) EndedAt: 2025-11-11 00:41:50 -0000 (Tue, 11 Nov 2025) EllapsedTime: 24.0 seconds RetCode: 0 Status: OK PackageFile: ConsensusClusterPlus_1.74.0.tar.gz PackageFileSize: 383.8 KiB