Package: ConsensusClusterPlus Version: 1.74.0 Command: /home/biocbuild/bbs-3.22-bioc/R/bin/R CMD INSTALL ConsensusClusterPlus StartedAt: 2025-11-11 15:17:17 -0500 (Tue, 11 Nov 2025) EndedAt: 2025-11-11 15:17:20 -0500 (Tue, 11 Nov 2025) EllapsedTime: 3.3 seconds RetCode: 0 Status: OK