Package: ConsensusClusterPlus Version: 1.72.0 Command: /home/biocbuild/bbs-3.21-bioc/R/bin/R CMD check --install=check:ConsensusClusterPlus.install-out.txt --library=/home/biocbuild/bbs-3.21-bioc/R/site-library --timings ConsensusClusterPlus_1.72.0.tar.gz StartedAt: 2025-10-01 22:04:33 -0400 (Wed, 01 Oct 2025) EndedAt: 2025-10-01 22:05:03 -0400 (Wed, 01 Oct 2025) EllapsedTime: 30.0 seconds RetCode: 0 Status: OK CheckDir: ConsensusClusterPlus.Rcheck Warnings: 0