Package: ConsensusClusterPlus Version: 1.72.0 Command: /Library/Frameworks/R.framework/Resources/bin/R CMD INSTALL ConsensusClusterPlus StartedAt: 2025-09-25 15:34:20 -0400 (Thu, 25 Sep 2025) EndedAt: 2025-09-25 15:34:24 -0400 (Thu, 25 Sep 2025) EllapsedTime: 4.4 seconds RetCode: 0 Status: OK