Package: ConsensusClusterPlus Version: 1.72.0 Command: /Library/Frameworks/R.framework/Resources/bin/R CMD check --install=check:ConsensusClusterPlus.install-out.txt --library=/Library/Frameworks/R.framework/Resources/library --no-vignettes --timings ConsensusClusterPlus_1.72.0.tar.gz StartedAt: 2025-09-30 17:03:00 -0400 (Tue, 30 Sep 2025) EndedAt: 2025-09-30 17:03:33 -0400 (Tue, 30 Sep 2025) EllapsedTime: 32.8 seconds RetCode: 0 Status: OK CheckDir: ConsensusClusterPlus.Rcheck Warnings: 0