Package: CompoundDb Version: 1.14.0 Command: /home/biocbuild/R/R/bin/R CMD INSTALL CompoundDb StartedAt: 2025-11-10 21:43:18 -0000 (Mon, 10 Nov 2025) EndedAt: 2025-11-10 21:43:47 -0000 (Mon, 10 Nov 2025) EllapsedTime: 28.8 seconds RetCode: 0 Status: OK