Package: CompoundDb Version: 1.12.1 Command: chmod a+r CompoundDb -R && E:\biocbuild\bbs-3.21-bioc\R\bin\R.exe CMD build --keep-empty-dirs --no-resave-data CompoundDb StartedAt: 2025-08-14 18:12:32 -0400 (Thu, 14 Aug 2025) EndedAt: 2025-08-14 18:14:02 -0400 (Thu, 14 Aug 2025) EllapsedTime: 90.0 seconds RetCode: 0 Status: OK PackageFile: CompoundDb_1.12.1.tar.gz PackageFileSize: 1.304 MiB