Package: CompoundDb Version: 1.12.1 Command: rm -rf CompoundDb.buildbin-libdir && mkdir CompoundDb.buildbin-libdir && E:\biocbuild\bbs-3.21-bioc\R\bin\R.exe CMD INSTALL --build --library=CompoundDb.buildbin-libdir CompoundDb_1.12.1.tar.gz StartedAt: 2025-08-15 09:02:28 -0400 (Fri, 15 Aug 2025) EndedAt: 2025-08-15 09:03:55 -0400 (Fri, 15 Aug 2025) EllapsedTime: 87.1 seconds RetCode: 0 Status: OK PackageFile: CompoundDb_1.12.1.zip PackageFileSize: 1.456 MiB