Package: CompoundDb Version: 1.14.0 Command: /home/biocbuild/bbs-3.22-bioc/R/bin/R CMD INSTALL CompoundDb StartedAt: 2025-11-11 15:38:58 -0500 (Tue, 11 Nov 2025) EndedAt: 2025-11-11 15:39:19 -0500 (Tue, 11 Nov 2025) EllapsedTime: 20.7 seconds RetCode: 0 Status: OK