Package: CompoundDb Version: 1.12.1 Command: /home/biocbuild/R/R/bin/R CMD check --install=check:CompoundDb.install-out.txt --library=/home/biocbuild/R/R/site-library --no-vignettes --timings CompoundDb_1.12.1.tar.gz StartedAt: 2025-10-14 07:45:44 -0000 (Tue, 14 Oct 2025) EndedAt: 2025-10-14 07:49:09 -0000 (Tue, 14 Oct 2025) EllapsedTime: 205.1 seconds RetCode: 0 Status: OK CheckDir: CompoundDb.Rcheck Warnings: 0