Package: ComplexHeatmap Version: 2.26.0 Command: /home/biocbuild/R/R/bin/R CMD build --keep-empty-dirs --no-resave-data ComplexHeatmap StartedAt: 2025-11-14 00:49:03 -0000 (Fri, 14 Nov 2025) EndedAt: 2025-11-14 00:49:50 -0000 (Fri, 14 Nov 2025) EllapsedTime: 47.0 seconds RetCode: 0 Status: OK PackageFile: ComplexHeatmap_2.26.0.tar.gz PackageFileSize: 1.364 MiB