Package: ComplexHeatmap Version: 2.26.0 Command: /home/biocbuild/bbs-3.22-bioc/R/bin/R CMD INSTALL ComplexHeatmap StartedAt: 2025-11-11 15:18:33 -0500 (Tue, 11 Nov 2025) EndedAt: 2025-11-11 15:18:53 -0500 (Tue, 11 Nov 2025) EllapsedTime: 20.5 seconds RetCode: 0 Status: OK