Package: ComplexHeatmap Version: 2.26.0 Command: /home/biocbuild/bbs-3.22-bioc/R/bin/R CMD check --install=check:ComplexHeatmap.install-out.txt --library=/home/biocbuild/bbs-3.22-bioc/R/site-library --timings ComplexHeatmap_2.26.0.tar.gz StartedAt: 2025-11-11 22:27:33 -0500 (Tue, 11 Nov 2025) EndedAt: 2025-11-11 22:32:50 -0500 (Tue, 11 Nov 2025) EllapsedTime: 317.3 seconds RetCode: 0 Status: OK CheckDir: ComplexHeatmap.Rcheck Warnings: 0