Package: ComplexHeatmap Version: 2.26.0 Command: /home/biocbuild/bbs-3.22-bioc/R/bin/R CMD build --keep-empty-dirs --no-resave-data --md5 ComplexHeatmap StartedAt: 2025-11-11 17:02:42 -0500 (Tue, 11 Nov 2025) EndedAt: 2025-11-11 17:03:14 -0500 (Tue, 11 Nov 2025) EllapsedTime: 32.0 seconds RetCode: 0 Status: OK PackageFile: ComplexHeatmap_2.26.0.tar.gz PackageFileSize: 1.404 MiB