Package: ComplexHeatmap Version: 2.24.1 Command: /home/biocbuild/bbs-3.21-bioc/R/bin/R CMD INSTALL ComplexHeatmap StartedAt: 2025-09-28 15:28:46 -0400 (Sun, 28 Sep 2025) EndedAt: 2025-09-28 15:29:07 -0400 (Sun, 28 Sep 2025) EllapsedTime: 21.0 seconds RetCode: 0 Status: OK