Package: ComplexHeatmap Version: 2.24.1 Command: rm -rf ComplexHeatmap.buildbin-libdir && mkdir ComplexHeatmap.buildbin-libdir && /Users/biocbuild/BBS/utils/build-universal.sh ComplexHeatmap_2.24.1.tar.gz /Library/Frameworks/R.framework/Resources/bin/R ComplexHeatmap.buildbin-libdir StartedAt: 2025-10-14 13:06:56 -0400 (Tue, 14 Oct 2025) EndedAt: 2025-10-14 13:08:00 -0400 (Tue, 14 Oct 2025) EllapsedTime: 63.9 seconds RetCode: 0 Status: OK PackageFile: ComplexHeatmap_2.24.1.tgz PackageFileSize: 3.016 MiB